BEGIN:VCALENDAR
VERSION:2.0
PRODID:-//ChamberMaster//Event Calendar 2.0//EN
METHOD:PUBLISH
X-PUBLISHED-TTL:P3D
REFRESH-INTERVAL:P3D
CALSCALE:GREGORIAN
BEGIN:VEVENT
DTSTART:20241210T133000Z
DTEND:20241210T143000Z
X-MICROSOFT-CDO-ALLDAYEVENT:FALSE
SUMMARY:2024/25 Mentor Awards Breakfast
DESCRIPTION:Please join us in celebrating local business people donating their time and talent to guide and advise the next generation of leaders.\n\n \n\nThe Indian Valley Chamber of Commerce presents the Souderton School District Mentor Recognition Breakfast\, which will be held in the High School Library on December 10\, 8:30 - 9:30AM. We are thrilled to honor mentors who SAHS students nominated for providing exceptional guidance and experience in their Mentorships.  The Mentorship is a 20-hour unpaid career experience that SAHS students complete as part of the Pathway 360 Program. \n\nPlease park in the ellipse and enter through the library - NOT the Main - entrance. \n\nTHANK YOU to the Souderton-Telford Rotary for sponsoring this event!
X-ALT-DESC;FMTTYPE=text/html:<strong><span style="color:black\;"><span style="font-family:arial\,sans-serif\;">Please join us in celebrating local business people donating their time and talent to guide and advise the next generation of leaders.</span></span></strong><br />\n&nbsp\;<br />\n<span style="background:white\;"><span style="color:#242424\;"><span style="font-family:calibri\,sans-serif\;"><span style="font-size:11.0pt\;">The Indian Valley Chamber of Commerce presents the Souderton School District Mentor&nbsp\;Recognition&nbsp\;Breakfast\, which will be held in the High School Library on December 10\, 8:30 - 9:30AM. We are thrilled to honor mentors who SAHS students nominated for providing exceptional guidance and experience in their&nbsp\;Mentorships.&nbsp\; The&nbsp\;Mentorship is a 20-hour unpaid career experience that SAHS students complete as part of the Pathway 360 Program.&nbsp\;</span></span></span></span><br />\n<span style="font-size:12px\;"><strong><span style="font-family: arial\, sans-serif\; background-color: rgb(255\, 255\, 255)\;">Please park in the ellipse and enter through the library - NOT the Main - entrance.&nbsp\;</span></strong></span><br />\n<span style="background:white\;"><span style="color:#242424\;"><span style="font-family:calibri\,sans-serif\;"><span style="font-size:11.0pt\;">THANK YOU to the Souderton-Telford Rotary for sponsoring this event!</span></span></span></span><br />\n<br />\n&nbsp\;
LOCATION:Souderton Area High School - Library 625 Lower Rd. Souderton Enter through the library door - not the main entrance.
UID:e.3243.2740
SEQUENCE:3
DTSTAMP:20260419T204958Z
URL:https://business.indianvalleychamber.com/events/details/2024-25-mentor-awards-breakfast-2740
END:VEVENT

END:VCALENDAR
