BEGIN:VCALENDAR
VERSION:2.0
PRODID:-//ChamberMaster//Event Calendar 2.0//EN
METHOD:PUBLISH
X-PUBLISHED-TTL:P3D
REFRESH-INTERVAL:P3D
CALSCALE:GREGORIAN
BEGIN:VEVENT
DTSTART:20240930T123000Z
DTEND:20240930T180000Z
X-MICROSOFT-CDO-ALLDAYEVENT:FALSE
SUMMARY:2024 Clay Shoot
DESCRIPTION:Join us for our Annual Clay Shoot. A day of networking and clay shooting with your business peers. All skill levels are welcome! \n\n\n\nWe begin the day with a delicious catered breakfast and finish with a pig roast lunch! Enjoy some friendly competition and good food! \n\nIncludes bagels\, donuts & coffee\, pig roast lunch\, golf cart\, 100 targets\, and 12 or 20 gauge ammo.\n\n\n\nLoaner guns are available through LV Shooting Clays. Shooters MUST provide their own eye and ear protection to wear during the event.
X-ALT-DESC;FMTTYPE=text/html:<span style="font-size:14px\;">Join us for our Annual Clay Shoot. A day of networking and clay shooting with your business peers. All skill levels are welcome!&nbsp\;<br />\n<br />\nWe begin the day with a delicious catered breakfast and finish with a pig roast lunch! Enjoy some friendly competition and good food!&nbsp\;<br />\nIncludes bagels\, donuts &amp\; coffee\, pig roast lunch\, golf cart\, 100 targets\, and 12 or 20 gauge ammo.</span><br />\n<br />\n<span style="font-size:14px\;"><em><strong>Loaner guns are available through LV Shooting Clays. Shooters MUST provide their own eye and ear protection to wear during the event.</strong></em></span>
LOCATION:Lehigh Valley Sporting Clays 2750 Limestone St.\, Coplay\, PA 18037
UID:e.3243.1993
SEQUENCE:3
DTSTAMP:20260419T190811Z
URL:https://business.indianvalleychamber.com/events/details/2024-clay-shoot-1993
END:VEVENT

END:VCALENDAR
