BEGIN:VCALENDAR
VERSION:2.0
PRODID:-//ChamberMaster//Event Calendar 2.0//EN
METHOD:PUBLISH
X-PUBLISHED-TTL:P3D
REFRESH-INTERVAL:P3D
CALSCALE:GREGORIAN
BEGIN:VEVENT
DTSTART:20241023T150000Z
DTEND:20241023T163000Z
X-MICROSOFT-CDO-ALLDAYEVENT:FALSE
SUMMARY:2024 Fall Forum Building a Resilient Business: Strategies for Long-Term Success
DESCRIPTION:Join us for the 2024 FALL FORUM Building a Resilient Business: Strategies for Long-Term Success 11:00AM - 12:30 PM\, for an insightful and informative panel discussion of your business peers.\n\n\n\nYou will be inspired by an extraordinary gathering of accomplished business leaders. Join us as we delve into the narratives of these entrepreneurs\, exploring the stories that have shaped their careers. This event is your chance to learn from the very best and draw motivation from these exception individuals.  \n\n\n\nSPEAKERS:\n\nRebecca Thomas\, CEO\, T&T Construction Management Group\n\nSuzanne Owens\, President & CEO\, Peter Becker Community\n\nKathy Gorski\, Co-Owner\, Gorski Engineering\n\nNanette Poserina\, President\, Health Insurance Solutions\, Inc. \n\n\n\nYou are welcome to join us for lunch at the Washington House immediately following the Forum. Lunch registration incurs fee. \n\n\n\nMENU CHOICES:\n\nWashington Burger - 8oz burger\, Crispy pancetta\, smoked cheddar &  secret sauce on brioche bun\n\nBraised Chicken Piccata Papardelle - Shishito peppers\, grape tomatoes\, arugula\, capers & parmesan\n\nFried Rice with Seasonal Vegetables with hoisin Sauce & Chili Aioli (Veg\, GF)
X-ALT-DESC;FMTTYPE=text/html:<span style="font-size:14px\;"><span style="font-family:arial\;"><span style="color:black\;">Join us for the</span><strong><span style="color:black\;">&nbsp\;2024 FALL FORUM Building a Resilient Business: Strategies for Long-Term Success </span></strong><span style="color:black\;">11:00AM -&nbsp\;12:30 PM\, for an insightful and informative panel discussion of your business peers.<br />\n<br />\nYou will be inspired by an extraordinary gathering of accomplished business leaders. Join us as we delve into the narratives of these entrepreneurs\, exploring the stories that have shaped their careers. This event is your chance to learn from the very best and draw motivation from these exception individuals.&nbsp\;&nbsp\;</span></span></span><br />\n<br />\n<strong><span style="font-size:14px\;"><span style="font-family:arial\;">SPEAKERS:<br />\nRebecca Thomas\, CEO\, T&amp\;T Construction Management Group<br />\nSuzanne Owens\, President &amp\; CEO\, Peter Becker Community<br />\nKathy Gorski\, Co-Owner\, Gorski Engineering<br />\nNanette Poserina\, President\, Health Insurance Solutions\, Inc.</span></span>&nbsp\;</strong><br />\n<br />\n<span style="font-family:arial\;"><span style="font-size:14px\;">You are welcome to join us for lunch at the Washington House immediately following the Forum. Lunch registration incurs fee.&nbsp\;<br />\n<br />\n<strong>MENU CHOICES:</strong><br />\n<em><strong>Washington Burger</strong></em> - 8oz burger\,&nbsp\;<span style="color: rgb(17\, 17\, 17)\; background-color: rgb(255\, 255\, 255)\;">Crispy pancetta\, smoked cheddar &amp\;&nbsp\; secret sauce on brioche bun</span></span></span><br />\n<span style="font-size: 14px\; font-family: arial\;"><em><strong>Braised Chicken Piccata Papardelle</strong></em> -&nbsp\;</span><span style="font-size: 14px\; font-family: arial\; color: rgb(17\, 17\, 17)\;">Shishito peppers\, grape tomatoes\, arugula\, capers &amp\; parmesan</span><br />\n<span style="font-family:arial\;"><span style="font-size:14px\;"><em><strong>Fried Rice with Seasonal Vegetables</strong></em> with hoisin Sauce &amp\; Chili Aioli (Veg\, GF)</span></span>
LOCATION:Sellersville Theater 24 W. Temple Avenue Sellersville
UID:e.3243.2723
SEQUENCE:3
DTSTAMP:20260419T130618Z
URL:https://business.indianvalleychamber.com/events/details/2024-fall-forum-building-a-resilient-business-strategies-for-long-term-success-2723
END:VEVENT

END:VCALENDAR
