BEGIN:VCALENDAR
VERSION:2.0
PRODID:-//ChamberMaster//Event Calendar 2.0//EN
METHOD:PUBLISH
X-PUBLISHED-TTL:P3D
REFRESH-INTERVAL:P3D
CALSCALE:GREGORIAN
BEGIN:VEVENT
DTSTART:20240515T153000Z
DTEND:20240515T173000Z
X-MICROSOFT-CDO-ALLDAYEVENT:FALSE
SUMMARY:2024 LEAD Indian Valley Graduation
DESCRIPTION:Join us to congratulate the LEAD IV Class of 2024!\n\nWe will hear from the students themselves about their course of study\, how they have grown as leaders over the past several months and how they incorporate their new skills into their everyday work lives.
X-ALT-DESC;FMTTYPE=text/html:Join us to congratulate the&nbsp\;<strong>LEAD IV Class of 2024!</strong><br />\nWe will hear from the students themselves about their course of study\, how they have grown as leaders over the past several months and how they incorporate their new skills into their everyday work lives.<br />\n<br />\n&nbsp\;
LOCATION:Franconia Heritage Banquet & Conference Center 508 Harleysville Pike - Telford
UID:e.3243.1921
SEQUENCE:3
DTSTAMP:20260421T080844Z
URL:https://business.indianvalleychamber.com/events/details/2024-lead-indian-valley-graduation-1921
END:VEVENT

END:VCALENDAR
