BEGIN:VCALENDAR
VERSION:2.0
PRODID:-//ChamberMaster//Event Calendar 2.0//EN
METHOD:PUBLISH
X-PUBLISHED-TTL:P3D
REFRESH-INTERVAL:P3D
CALSCALE:GREGORIAN
BEGIN:VEVENT
DTSTART:20241113T163000Z
DTEND:20241113T173000Z
X-MICROSOFT-CDO-ALLDAYEVENT:FALSE
SUMMARY:2024 Noontime Networking - November
DESCRIPTION:Join the Indian Valley Chamber and Networking Group Indian Valley for an informal hour of networking on the second Wednesday of each month! Make connections\, share experiences\, enjoy great food. \n\n\n\nNo registration necessary. Everyone is welcome.
X-ALT-DESC;FMTTYPE=text/html:Join the Indian Valley Chamber and Networking Group Indian Valley for an informal hour of networking on the second Wednesday of each month! Make connections\, share experiences\, enjoy great food.&nbsp\;<br />\n<br />\nNo registration necessary. Everyone is welcome.&nbsp\;
LOCATION:Franconia Heritage Restaurant 508 Harleysville Pike Telford\, PA 18969
UID:e.3243.2736
SEQUENCE:3
DTSTAMP:20260419T191414Z
URL:https://business.indianvalleychamber.com/events/details/2024-noontime-networking-november-2736
END:VEVENT

END:VCALENDAR
