BEGIN:VCALENDAR
VERSION:2.0
PRODID:-//ChamberMaster//Event Calendar 2.0//EN
METHOD:PUBLISH
X-PUBLISHED-TTL:P3D
REFRESH-INTERVAL:P3D
CALSCALE:GREGORIAN
BEGIN:VEVENT
DTSTART:20240920T113000Z
DTEND:20240920T131500Z
X-MICROSOFT-CDO-ALLDAYEVENT:FALSE
SUMMARY:2024 State of the State - Membership Breakfast
DESCRIPTION:Join us for an update on the State of the State. Enjoy networking and a breakfast buffet before listening to local PA State Legislators speak on the State of the State. \n\n\n\nOur invited speakers include:\n\nPA State Rep. Steve Malagari (D - 53rd District)\n\nPA State Rep. Donna Scheuren (R - 147th District)\n\nPA State Sen. Maria Collett (D - 12th District)\n\nPA State Sen. Tracy Pennycuick (R- 24th District)\n\n\n\nPlease send questions along with your REGISTRATION\n\n\n\n7:30AM - Breakfast/ Networking\n\n8 - 9AM - Program \n\n9 - 9:15AM - Q&A\n\n\n\nOur thanks to Pool Scouts of Montgomery & Upper Bucks Counties for sponsoring this event!
X-ALT-DESC;FMTTYPE=text/html:<span style="font-family:arial\,sans-serif\;"><span style="font-size:11.0pt\;"><font color="#000000">Join us for an update on the State of the State. Enjoy networking and a breakfast buffet before listening to local PA State Legislators speak on the State of the State.&nbsp\;<br />\n<br />\nOur invited speakers include:<br />\nPA State Rep. Steve Malagari (D - 53rd District)<br />\nPA State Rep. Donna Scheuren (R - 147th District)<br />\nPA State Sen. Maria Collett (D - 12th District)<br />\nPA State Sen. Tracy Pennycuick (R- 24th District)</font></span></span><br />\n<br />\n<strong><span style="font-family:arial\,sans-serif\;"><span style="font-size:11.0pt\;">Please send questions along with your REGISTRATION<br />\n<br />\n7:30AM - Breakfast/ Networking<br />\n8 - 9AM - Program&nbsp\;<br />\n9 - 9:15AM - Q&amp\;A<br />\n<br />\n<span style="font-size:16px\;"><em>Our thanks to Pool Scouts of Montgomery &amp\; Upper Bucks Counties for sponsoring this event!</em></span></span></span></strong><br />\n&nbsp\;
LOCATION:Franconia Heritage Banquet & Conference Center 508 Harleysville Pike Telford
UID:e.3243.2705
SEQUENCE:3
DTSTAMP:20260419T191642Z
URL:https://business.indianvalleychamber.com/events/details/2024-state-of-the-state-membership-breakfast-2705
END:VEVENT

END:VCALENDAR
