BEGIN:VCALENDAR
VERSION:2.0
PRODID:-//ChamberMaster//Event Calendar 2.0//EN
METHOD:PUBLISH
X-PUBLISHED-TTL:P3D
REFRESH-INTERVAL:P3D
CALSCALE:GREGORIAN
BEGIN:VEVENT
DTSTART:20241206T123000Z
DTEND:20241207T023000Z
X-MICROSOFT-CDO-ALLDAYEVENT:FALSE
SUMMARY:2024 Tax Update
DESCRIPTION:Please join us for our annual Year-End Tax Update. This gathering at the Franconia Heritage Banquet and Conference Center offers a prime opportunity for networking and knowledge sharing. Thank you to our sponsors\, QNB Bank and Baum\, Smith & Clemens\, LLP. \n\n Continental breakfast will be provided. This is a free event\, but you must register to attend.\n\n \n\nOur Presenters: \n\nJason K. Peterka\, CPA\n\n Tax Manager\n\n Jason joined the firm in 2018 after working for another local tax firm.  With over 20 years of experience in the public accounting field\, he assumed the role of Tax Manager. He is responsible for reviewing individual and business tax returns\, tax research and performing extensive training for our staff. Besides review work\, his tax experience also includes preparing individual\, closely held businesses\, nonprofit and trust returns. \n\n Jason graduated from West Chester University with a Bachelor of Science degree in Accounting and has a Master of Science in Taxation from William Howard Taft University.  He is a member of the American and Pennsylvania Institutes of Certified Public Accountants. \n\n Jason resides in Mohnton PA\, with his wife Erica and their two children\, Ivy and Locke.\n\n\n\nTad K. Schantz\, CPA\, CFE\n\nPartner\n\n Tad joined the firm in 2006 after graduating from Bloomsburg University with a Bachelor of Science degree in Business Administration with a major in Accounting and a minor in Fraud Examination.  He has been a CPA since 2009 and a Certified Fraud Examiner since January 2013.  He is a member of the American and Pennsylvania Institutes of Certified Public Accountants and the Association of Certified Fraud Examiners.\n\nAs a partner\, Tad serves as a tax and financial accounting resource to all members of the firm and to a diversified client base.  With an emphasis on closely held businesses\, his areas of expertise focus on the attestation\, accounting\, forensic accounting\, tax planning\, consulting\, and preparation areas. Tad also serves as one of the firms' leaders in the Audit and Accounting department. In this role\, he is responsible for managing the resources of the A&A practice including\, recruiting\, training\, budgeting\, researching technical matters\, compliance policies and procedures\, and implementing accounting standards.\n\nOutside of the office\, Tad enjoys traveling with his family\, physical activities (on both land and sea)\, household projects\, baseball\, and golf. He also volunteers as a coach in the Upper Perk Youth Baseball and Valley Soccer Club Organizations.  Tad\, his wife and two children reside in Pennsburg\, PA
X-ALT-DESC;FMTTYPE=text/html:<p><span style="font-size:16px\;"><span style="color:black"><span style="font-family:times new roman\;"><strong>Please join us for our annual Year-End Tax Update.&nbsp\;</strong></span></span></span><strong style="font-size: 16px\;"><span style="font-family:times new roman\;"><span style="color:black">This gathering at the Franconia Heritage Banquet and Conference Center offers a prime opportunity for networking and knowledge sharing. Thank you to our sponsors\, QNB Bank and Baum\, Smith &amp\; Clemens\, LLP.&nbsp\;</span></span></strong></p>\n\n<p style="margin-left:.5in"><strong style="font-size: 16px\;"><span style="font-family:times new roman\;"><span style="color:black">&#65279\;Continental breakfast will be provided. This is a free event\, but you must register to attend.</span></span></strong><br />\n&nbsp\;</p>\n\n<p style="margin: 0px\; padding: 0px\; color: rgb(96\, 109\, 120)\; font-family: Georgia\, &quot\;Times New Roman&quot\;\, Times\, serif\; font-size: 14px\; white-space-collapse: preserve\; background-color: rgb(255\, 255\, 255)\;"><span style="font-size:16px\;"><span style="color:#000000\;"><strong>Our Presenters: </strong></span><br />\n<span style="color:#000000\;"><span style="font-family:times new roman\;"><strong>Jason K. Peterka\, CPA</strong><br />\n&nbsp\;<strong>Tax Manager</strong></span><br />\n<span style="font-family:times new roman\;">&nbsp\;Jason joined the firm in 2018 after working for another local tax firm.&nbsp\; With over 20 years of experience in the public accounting field\, he assumed the role of Tax Manager. He is responsible for reviewing individual and business tax returns\, tax research and performing extensive training for our staff. Besides review work\, his tax experience also includes preparing individual\, closely held businesses\, nonprofit and trust returns.&nbsp\;<br />\n&nbsp\;Jason graduated from West Chester University with a Bachelor of Science degree in Accounting and has a Master of Science in Taxation from William Howard Taft University.&nbsp\; He is a member of the American and Pennsylvania Institutes of Certified Public Accountants.&nbsp\;<br />\n&nbsp\;Jason resides in Mohnton PA\, with his wife Erica and their two children\, Ivy and Locke.</span></span></span><br />\n<br />\n<span style="font-size:16px\;"><span style="font-family:times new roman\;"><span style="color:#000000\;"><strong>Tad K. Schantz\, CPA\, CFE</strong><br />\n<strong><em>Partner</em></strong><br />\n&nbsp\;Tad joined the firm in 2006 after graduating from Bloomsburg University with a Bachelor of Science degree in Business Administration with a major in Accounting and a minor in Fraud Examination. &nbsp\;He has been a CPA since 2009 and a Certified Fraud Examiner since January 2013.&nbsp\; He is a member of the American and Pennsylvania Institutes of Certified Public Accountants and the Association of Certified Fraud Examiners.<br />\nAs a partner\, Tad serves as a tax and financial accounting resource to all members of the firm and to a diversified client base.&nbsp\; With an emphasis on closely held businesses\, his areas of expertise focus on the attestation\, accounting\, forensic accounting\, tax planning\, consulting\, and preparation areas. Tad also serves as one of the firms&rsquo\; leaders in the Audit and Accounting department. In this role\, he is responsible for managing the resources of the A&amp\;A practice including\, recruiting\, training\, budgeting\, researching technical matters\, compliance policies and procedures\, and implementing accounting standards.<br />\nOutside of the office\, Tad enjoys traveling with his family\, physical activities (on both land and sea)\, household projects\, baseball\, and golf. He also volunteers as a coach in the Upper Perk Youth Baseball and Valley Soccer Club Organizations.&nbsp\; Tad\, his wife and two children reside in Pennsburg\, PA</span></span></span><br />\n<br />\n<br />\n&nbsp\;</p>\n
LOCATION:Franconia Heritage Restaurant 508 Harleysville Pike Telford\, PA 18969
UID:e.3243.2016
SEQUENCE:3
DTSTAMP:20260419T204722Z
URL:https://business.indianvalleychamber.com/events/details/2024-tax-update-2016
END:VEVENT

END:VCALENDAR
