BEGIN:VCALENDAR
VERSION:2.0
PRODID:-//ChamberMaster//Event Calendar 2.0//EN
METHOD:PUBLISH
X-PUBLISHED-TTL:P3D
REFRESH-INTERVAL:P3D
CALSCALE:GREGORIAN
BEGIN:VEVENT
DTSTART:20250201T133000Z
DTEND:20250201T143000Z
X-MICROSOFT-CDO-ALLDAYEVENT:FALSE
SUMMARY:2025 10th Annual Harleysville Hank Groundhog Day Extravaganza
DESCRIPTION:Free family-friendly fun begins at 8:30AM! Ceremony begins at 9AM! Come enjoy the singing of groundhog carols and revelry with free hot chocolate and coffee.\n\n9:00AM Twenty-minute Harleysville Hank Ceremony\n\nA celebration in word\, song\, and prognostication.\n\nA lighthearted observance of the tradition of Groundhog Day for the whole family. Bring friends.\n\n\n\nHank will be available for office visits with Chamber members before his Big Day. He loves to have his photo taken. Email micheleb@indianvalleychamber.com to set up your visit.
X-ALT-DESC;FMTTYPE=text/html:<h1 class="_5gmx" data-testid="event-permalink-event-name" id="seo_h1_tag" style="color: rgb(29\, 33\, 41)\; font-size: 20px\; margin: 0px 12px 0px 0px\; padding: 0px\; line-height: 28px\; font-family: Helvetica\, Arial\, sans-serif\;"><span style="color:#1C1E21\;"><span style="font-family:arial\,sans-serif\;"><span style="font-size:16.0pt\;">Free family-friendly fun begins at 8:30AM! Ceremony begins at 9AM! Come enjoy the singing of groundhog carols and revelry with free hot chocolate and coffee.</span></span></span><br />\n<span style="color:#1C1E21\;"><span style="font-family:arial\,sans-serif\;"><span style="font-size:16.0pt\;">9:00AM&nbsp\;Twenty-minute Harleysville Hank Ceremony<br />\nA&nbsp\;celebration in word\, song\, and prognostication.</span></span></span><br />\n<span style="color:#1C1E21\;"><span style="font-family:arial\,sans-serif\;"><span style="font-size:16.0pt\;">A lighthearted observance of the tradition of Groundhog Day for the whole family. Bring friends.<br />\n<br />\n<em><strong><span style="font-size:14px\;">Hank will be available for office visits with Chamber members before his Big Day. He loves to have his photo taken. Email micheleb@indianvalleychamber.com to set up your visit.</span></strong>&nbsp\;</em></span></span></span><br />\n<br />\n<br />\n&nbsp\;</h1>\n
LOCATION:Mennonite Heritage Center Barn 565 Yoder Rd. Harleysville\, Pa 1943A
UID:e.3243.2741
SEQUENCE:3
DTSTAMP:20260419T233930Z
URL:https://business.indianvalleychamber.com/events/details/2025-10th-annual-harleysville-hank-groundhog-day-extravaganza-2741
END:VEVENT

END:VCALENDAR
