BEGIN:VCALENDAR
VERSION:2.0
PRODID:-//ChamberMaster//Event Calendar 2.0//EN
METHOD:PUBLISH
X-PUBLISHED-TTL:P3D
REFRESH-INTERVAL:P3D
CALSCALE:GREGORIAN
BEGIN:VEVENT
DTSTART:20250320T153000Z
DTEND:20250320T173000Z
X-MICROSOFT-CDO-ALLDAYEVENT:FALSE
SUMMARY:2025 Annual Meeting & Awards
DESCRIPTION:The Indian Valley Chamber of Commerce invites you to join us at our Annual Meeting and Awards program on Thursday\, March 20\, 2025 at the Indian Valley Country Club\, 650 Bergey Road\, Telford\, PA.  Networking and social time begins at 11:30AM a buffet lunch will be available at noon\, and the awards\, and program will begin at 12:45PM. We will conclude by 1:30PM.\n\n\n\n\n\nADVERTISE YOUR BUSINESS & SUPPORT THE INDIAN VALLEY CHAMBER! Email Michele at micheleb@indianvalleychamber.com for information.
X-ALT-DESC;FMTTYPE=text/html:<span style="font-size:18px\;"><span style="font-family:arial\;">The Indian Valley Chamber of Commerce invites you to join us at our Annual Meeting and Awards program on <em><strong>Thursday\, March 20\, 2025</strong></em>&nbsp\;at the Indian Valley Country Club\, 650 Bergey Road\, Telford\, PA.&nbsp\; Networking and social time begins at 11:30AM a buffet lunch will be available at noon\, and the awards\, and program will begin at 12:45PM. We will conclude by 1:30PM.</span></span><br />\n<br />\n<br />\n<strong><span style="font-size:16px\;"><span style="color: rgb(28\, 43\, 51)\; font-family: -apple-system\, BlinkMacSystemFont\, &quot\;Segoe UI&quot\;\, Roboto\, Helvetica\, Arial\, sans-serif\, &quot\;Apple Color Emoji&quot\;\, &quot\;Segoe UI Emoji&quot\;\, &quot\;Segoe UI Symbol&quot\;\; white-space-collapse: preserve\; background-color: rgb(255\, 255\, 255)\;">ADVERTISE YOUR BUSINESS &amp\; SUPPORT THE INDIAN VALLEY CHAMBER! Email Michele at micheleb@indianvalleychamber.com for information. </span></span></strong><br />\n<br />\n&nbsp\;\n<h4>&nbsp\;</h4>\n<span style="font-size:18px\;"><span style="font-family:arial\;">&nbsp\;</span></span>
LOCATION:Indian Valley Country Club 650 Bergey Road Telford
UID:e.3243.2733
SEQUENCE:3
DTSTAMP:20260420T011156Z
URL:https://business.indianvalleychamber.com/events/details/2025-annual-meeting-awards-2733
END:VEVENT

END:VCALENDAR
