BEGIN:VCALENDAR
VERSION:2.0
PRODID:-//ChamberMaster//Event Calendar 2.0//EN
METHOD:PUBLISH
X-PUBLISHED-TTL:P3D
REFRESH-INTERVAL:P3D
CALSCALE:GREGORIAN
BEGIN:VEVENT
DTSTART:20250410T200000Z
DTEND:20250410T210000Z
X-MICROSOFT-CDO-ALLDAYEVENT:FALSE
SUMMARY:2025 CHAMBER CONNECTS Happy Hour - April
DESCRIPTION:Put a SPRING in your step by networking with your business peers at our Chamber Connects Happy Hour! Join us for informal networking in a relaxed atmosphere. \n\nWe will be meeting at Branch Creek Taphouse to enjoy each others' company and light refreshments. Cash Bar.
X-ALT-DESC;FMTTYPE=text/html:<span style="font-size:16px\;"><span style="font-family:arial\;">Put a SPRING in your step by networking with your business peers at our&nbsp\;<strong>Chamber Connects Happy Hour!</strong> Join us for informal networking in a relaxed atmosphere.&nbsp\;<br />\nWe will be meeting at Branch Creek Taphouse to enjoy each others&#39\; company and light refreshments. Cash Bar.&nbsp\;</span></span><br />\n<br />\n&nbsp\;
LOCATION:Branch Creek Taphouse 30 West Chestnut St. Souderton
UID:e.3243.2751
SEQUENCE:3
DTSTAMP:20260420T034152Z
URL:https://business.indianvalleychamber.com/events/details/2025-chamber-connects-happy-hour-april-2751
END:VEVENT

END:VCALENDAR
