BEGIN:VCALENDAR
VERSION:2.0
PRODID:-//ChamberMaster//Event Calendar 2.0//EN
METHOD:PUBLISH
X-PUBLISHED-TTL:P3D
REFRESH-INTERVAL:P3D
CALSCALE:GREGORIAN
BEGIN:VEVENT
DTSTART:20250109T210000Z
DTEND:20250109T220000Z
X-MICROSOFT-CDO-ALLDAYEVENT:FALSE
SUMMARY:2025 CHAMBER CONNECTS Happy Hour - January
DESCRIPTION:Start the New Year off right networking with your business peers at our new Chamber Connects Happy Hour! Join us for our kick-off of this new quarterly event for informal networking in a relaxed atmosphere. \n\nfor this inaugural event\, we will be meeting at Branch Creek Taphouse to enjoy each others' company. Cash Bar and Light Refreshments\n\n\n\nNO REGISTRATION NEEDED!
X-ALT-DESC;FMTTYPE=text/html:<span style="font-size:14px\;"><span style="font-family:tahoma\;">Start the New Year off right networking with your business peers at our new <strong>Chamber Connects Happy Hour!</strong> Join us for our kick-off of this new quarterly event for informal networking in a relaxed atmosphere.&nbsp\;<br />\nfor this inaugural event\, we will be meeting at Branch Creek Taphouse to enjoy each others&#39\; company. Cash Bar and Light Refreshments<br />\n<br />\n<strong>NO REGISTRATION NEEDED!</strong></span></span>
LOCATION:Branch Creek Taphouse 30 West Chestnut St. Souderton
UID:e.3243.2744
SEQUENCE:3
DTSTAMP:20260419T221849Z
URL:https://business.indianvalleychamber.com/events/details/2025-chamber-connects-happy-hour-january-2744
END:VEVENT

END:VCALENDAR
