BEGIN:VCALENDAR
VERSION:2.0
PRODID:-//ChamberMaster//Event Calendar 2.0//EN
METHOD:PUBLISH
X-PUBLISHED-TTL:P3D
REFRESH-INTERVAL:P3D
CALSCALE:GREGORIAN
BEGIN:VEVENT
DTSTART:20250424T123000Z
DTEND:20250424T140000Z
X-MICROSOFT-CDO-ALLDAYEVENT:FALSE
SUMMARY:2025 HR Roundtable - APRIL
DESCRIPTION:Join us for our quarterly roundtable to delve into the latest trends presented by Jim Devine\, and participate idea-sharing with our group of HR and operational leaders. Our thanks to Univest for sponsoring the HR Roundtables series in 2025. These informal discussions focus on pertinent issues that affect today's workplace. Light breakfast provided. \n\n\n\nOur April Roundtable will have Laura Kratz\, MEd\, LPC(NJ) as our guest. Mental Health is Health: Promoting Employee Wellness \n\n \n\nEmployees are stressed. We will talk about what chronic stress is\, the symptoms\, and impact on employee wellness (both physical and mental)\; the impact on the organization\; and strategies to support wellness in the workplace. Discussion on how to start the conversation\, the benefit of training managers to mental health awareness. \n\n Laura Kratz\, MEd\, LPC(NJ) is the Clinical Coordinator of the St Luke's Penn Foundation's Employee Assistance Program. During her more than 30 years in the mental health field\, Laura's experience includes crisis counseling/screening\, program development and leadership\, collaborative work with community agencies\, and counseling individuals\, couples\, and families. Laura has provided counseling\, traumatic event debriefing\, and training for the EAP since 2006. \n\n\n\nJim Devine - Univest Insurance HR Practice Leader\n\nJim is an attorney and human resources executive with over 25 years of experience\, serving in various legal and human resources capacities throughout his career. Jim previously served as President and CEO of of the MidAtlantic Employers' Association "MEA" \, a member-based organization serving small to mid-sized employers in the tri-state area. Most recently Jim was the director of HR compliance and ethics officer for Olympus corporation of the Americas in Center Valley\, PA. His vast industry knowledge includes workplace policy development and HR compliance as well as design\, delivery of training programs focused on a variety of compliance-related topics\, ranging from harassment prevention\, to ethics and integrity best practices.
X-ALT-DESC;FMTTYPE=text/html:<span style="font-family:verdana\;"><strong><span style="font-size:16px\;">Join us for our quarterly roundtable to delve into the latest trends presented by Jim Devine\, and participate idea-sharing with our group of HR and operational leaders.&nbsp\;<span style="font-weight: 700\; white-space-collapse: preserve\; background-color: rgb(255\, 255\, 255)\;">Our thanks to Univest for sponsoring the HR Roundtables series in 2025. These informal discussions focus on pertinent issues that affect today&#39\;s workplace. Light breakfast provided. </span></span></strong></span><br />\n<br />\n<span style="font-size:14px\;"><strong><span style="font-weight: 700\; white-space-collapse: preserve\; background-color: rgb(255\, 255\, 255)\;">Our April Roundtable will have Laura Kratz\, MEd\, LPC(NJ) as our guest.</span><span style="font-weight: 700\; white-space-collapse: preserve\; background-color: rgb(255\, 255\, 255)\;"> </span><span style="color:black\;">Mental Health is Health: Promoting Employee Wellness&nbsp\;</span></strong></span><br />\n<span style="font-family:verdana\;"><span style="font-size:14px\;">&nbsp\;<br />\n<strong><span style="color:black\;">Employees are stressed. We will talk about what chronic stress is\, the symptoms\, and impact on employee wellness (both physical and mental)\; the impact on the organization\; and strategies to support wellness in the workplace. Discussion on how to start the conversation\, the benefit of training managers to mental health awareness.&nbsp\;</span><br />\n&nbsp\;Laura Kratz\, MEd\, LPC(NJ) is the Clinical Coordinator of the St Luke&rsquo\;s Penn Foundation&rsquo\;s Employee Assistance Program. During her more than 30 years in the mental health field\, Laura&rsquo\;s experience includes crisis counseling/screening\, program development and leadership\, collaborative work with community agencies\, and counseling individuals\, couples\, and families. Laura has provided counseling\, traumatic event debriefing\, and training for the EAP since 2006.&nbsp\;</strong></span></span><br />\n<br />\n<strong>Jim Devine - Univest Insurance HR Practice Leader</strong><br />\nJim is an attorney and human resources executive with over 25 years of experience\, serving in various legal and human resources capacities throughout his career. Jim previously served as President and CEO of of the MidAtlantic Employers&#39\; Association &quot\;MEA&quot\; \, a member-based organization serving small to mid-sized employers in the tri-state area. Most recently Jim was the director of HR compliance and ethics officer for Olympus corporation of the Americas in Center Valley\, PA. His vast industry knowledge includes workplace policy development and HR compliance as well as design\, delivery of training programs focused on a variety of compliance-related topics\, ranging from harassment prevention\, to ethics and integrity best practices.&nbsp\;
LOCATION:Univest Training Center 1715 Sumneytown Pike Lansdale (Kulpsville)
UID:e.3243.2760
SEQUENCE:3
DTSTAMP:20260420T024152Z
URL:https://business.indianvalleychamber.com/events/details/2025-hr-roundtable-april-2760
END:VEVENT

END:VCALENDAR
