BEGIN:VCALENDAR
VERSION:2.0
PRODID:-//ChamberMaster//Event Calendar 2.0//EN
METHOD:PUBLISH
X-PUBLISHED-TTL:P3D
REFRESH-INTERVAL:P3D
CALSCALE:GREGORIAN
BEGIN:VEVENT
DTSTART:20250521T153000Z
DTEND:20250521T173000Z
X-MICROSOFT-CDO-ALLDAYEVENT:FALSE
SUMMARY:2025 LEAD Indian Valley Graduation
DESCRIPTION:Join us to congratulate the LEAD IV Class of 2025!\n\n\n\nWe will hear from the students themselves about their course of study\, how they have grown as leaders over the past several months and how they incorporate their new skills into their everyday work lives.\n\nLunch will be served.
X-ALT-DESC;FMTTYPE=text/html:<span style="font-family:verdana\;"><span style="font-size:14px\;">Join us to congratulate the&nbsp\;<strong>LEAD IV Class of 2025!</strong><br />\n<br />\nWe will hear from the students themselves about their course of study\, how they have grown as leaders over the past several months and how they incorporate their new skills into their everyday work lives.<br />\nLunch will be served.&nbsp\;</span></span><br />\n<br />\n&nbsp\;
LOCATION:Franconia Heritage 508 Harleysville Pike Telford
UID:e.3243.2011
SEQUENCE:3
DTSTAMP:20260420T041433Z
URL:https://business.indianvalleychamber.com/events/details/2025-lead-indian-valley-graduation-2011
END:VEVENT

END:VCALENDAR
