BEGIN:VCALENDAR
VERSION:2.0
PRODID:-//ChamberMaster//Event Calendar 2.0//EN
METHOD:PUBLISH
X-PUBLISHED-TTL:P3D
REFRESH-INTERVAL:P3D
CALSCALE:GREGORIAN
BEGIN:VEVENT
DTSTART:20250306T123000Z
DTEND:20250306T140000Z
X-MICROSOFT-CDO-ALLDAYEVENT:FALSE
SUMMARY:2025 Maximize Your Membership
DESCRIPTION:Learn How to Maximize Your Membership with the Indian Valley Chamber of Commerce!\n\n\n\nJoin us for a Complimentary Breakfast on March 6th at the Maplewood Estates/ Peter Becker Community.\nAre you a member of the Indian Valley Chamber of Commerce but feel that you can more effectively be using that membership? This is the event for you! Register for this free event\, come out to meet the Chamber staff and Board members\, enjoy a complimentary breakfast\, and learn how to maximize your membership!\n\nThis event is free\, but you MUST register.
X-ALT-DESC;FMTTYPE=text/html:<strong><span style="font-size:14px\;"><span style="font-family:tahoma\;">Learn How to Maximize Your Membership with the Indian Valley Chamber of Commerce!<br />\n<br />\nJoin us for a Complimentary Breakfast on March 6th at the Maplewood Estates/ Peter Becker Community.</span></span></strong>\n<div class="xdj266r x11i5rnm xat24cr x1mh8g0r x1vvkbs" style="margin: 0px\; overflow-wrap: break-word\; font-family: &quot\;Segoe UI Historic&quot\;\, &quot\;Segoe UI&quot\;\, Helvetica\, Arial\, sans-serif\; color: rgb(5\, 5\, 5)\; font-size: 15px\; background-color: rgb(255\, 255\, 255)\;"><strong><span style="font-size:14px\;"><span style="font-family:tahoma\;">Are you a member of the Indian Valley Chamber of Commerce but feel that you can more effectively be using that membership? This is the event for you! Register for this free event\, come out to meet the Chamber staff and Board members\, enjoy a complimentary breakfast\, and learn how to maximize your membership!</span></span></strong></div>\n\n<div class="x11i5rnm xat24cr x1mh8g0r x1vvkbs xtlvy1s" style="margin: 0.5em 0px 0px\; overflow-wrap: break-word\; font-family: &quot\;Segoe UI Historic&quot\;\, &quot\;Segoe UI&quot\;\, Helvetica\, Arial\, sans-serif\; color: rgb(5\, 5\, 5)\; font-size: 15px\; background-color: rgb(255\, 255\, 255)\;"><strong><span style="font-size:14px\;"><span style="font-family:tahoma\;">This event is free\, but you MUST register.&nbsp\;</span></span></strong></div>\n\n<div class="x11i5rnm xat24cr x1mh8g0r x1vvkbs xtlvy1s" style="margin: 0.5em 0px 0px\; overflow-wrap: break-word\; font-family: &quot\;Segoe UI Historic&quot\;\, &quot\;Segoe UI&quot\;\, Helvetica\, Arial\, sans-serif\; color: rgb(5\, 5\, 5)\; font-size: 15px\; background-color: rgb(255\, 255\, 255)\;">&nbsp\;</div>\n
LOCATION:Maplewood Estates/ Peter Becker Community 815 Maplewood Dr. Harleysville\, PA
UID:e.3243.2734
SEQUENCE:3
DTSTAMP:20260420T011022Z
URL:https://business.indianvalleychamber.com/events/details/2025-maximize-your-membership-2734
END:VEVENT

END:VCALENDAR
