BEGIN:VCALENDAR
VERSION:2.0
PRODID:-//ChamberMaster//Event Calendar 2.0//EN
METHOD:PUBLISH
X-PUBLISHED-TTL:P3D
REFRESH-INTERVAL:P3D
CALSCALE:GREGORIAN
BEGIN:VEVENT
DTSTART:20250417T113000Z
DTEND:20250417T133000Z
X-MICROSOFT-CDO-ALLDAYEVENT:FALSE
SUMMARY:2025 Membership Breakfast - State of the Indian Valley
DESCRIPTION:Please join us for our annual State of the Indian Valley event. Municipal Managers from communities in the Indian Valley will be the speakers at a Membership Breakfast. The meeting will be held at Franconia Heritage\, 508 Harleysville Pike\, Telford. \n\n\n\nThis Membership Breakfast will feature updates from Municipal Managers on current and future planned projects\, the economies of local communities as well as an outlook for the future. \n\n\n\nOur speakers include:\n\nSara Jarrett-Eaton\, Souderton Borough\n\nAaron Bibro\, Hatfield Township\n\nDavid Kraynik\, Towamencin Township\n\nHolly Hosterman\, Lower Salford Township\n\nJaime Snyder\, Hatfield Borough\n\nJohn Taylor\, Telford Borough\n\nJon Hammer\, Franconia Township\n\nEric Jarrell\, Community Planning Manager\, Montgomery County\n\n\n\n The breakfast event is not limited to membership. We invite any businesspersons and guests to attend.
X-ALT-DESC;FMTTYPE=text/html:Please join us for our annual State of the Indian Valley event. Municipal Managers from communities in the Indian Valley will be the speakers at a Membership Breakfast. The meeting will be held at Franconia Heritage\, 508 Harleysville Pike\, Telford.&nbsp\;<br />\n<br />\n<span style="font-family:arial\,sans-serif\;"><span style="font-size:14px\;"><span style="font-family:arial\;">This Membership Breakfast will feature updates from Municipal Managers on current and future planned projects\, the economies of local communities as well as an outlook for the future.&nbsp\;<br />\n<br />\n<strong>Our speakers include:</strong><br />\nSara Jarrett-Eaton\, Souderton Borough<br />\nAaron Bibro\, Hatfield Township<br />\nDavid Kraynik\, Towamencin Township<br />\nHolly Hosterman\, Lower Salford Township<br />\nJaime Snyder\, Hatfield Borough<br />\nJohn Taylor\, Telford Borough<br />\nJon Hammer\, Franconia Township<br />\nEric Jarrell\, Community Planning Manager\, Montgomery County</span></span></span><br />\n<br />\n&nbsp\;<span style="font-size:12.0pt\;"><strong><span style="font-size:12px\;">The breakfast event is not limited to membership. We invite any businesspersons and guests to attend. </span></strong></span>
LOCATION:Franconia Heritage 508 Harleysville Pike Telford
UID:e.3243.2739
SEQUENCE:3
DTSTAMP:20260420T034847Z
URL:https://business.indianvalleychamber.com/events/details/2025-membership-breakfast-state-of-the-indian-valley-2739
END:VEVENT

END:VCALENDAR
