BEGIN:VCALENDAR
VERSION:2.0
PRODID:-//ChamberMaster//Event Calendar 2.0//EN
METHOD:PUBLISH
X-PUBLISHED-TTL:P3D
REFRESH-INTERVAL:P3D
CALSCALE:GREGORIAN
BEGIN:VEVENT
DTSTART:20250108T163000Z
DTEND:20250108T173000Z
X-MICROSOFT-CDO-ALLDAYEVENT:FALSE
SUMMARY:2025 Noontime Networking - January
DESCRIPTION:Make plans to start the year off with the Indian Valley Chamber and Networking Group Indian Valley for an informal hour of networking on the second Wednesday of each month! Make connections\, share experiences\, enjoy great food. \n\n\n\nNo registration necessary. Everyone is welcome.
X-ALT-DESC;FMTTYPE=text/html:<span style="font-size:14px\;"><span style="font-family:verdana\;"><strong>Make plans to start the year off with the Indian Valley Chamber and Networking Group Indian Valley for an informal hour of networking on the second Wednesday of each month! Make connections\, share experiences\, enjoy great food.&nbsp\;<br />\n<br />\nNo registration necessary. Everyone is welcome.&nbsp\;</strong></span></span>
LOCATION:Franconia Heritage Restaurant 508 Harleysville Pike Telford\, PA 18969
UID:e.3243.2745
SEQUENCE:3
DTSTAMP:20260419T221619Z
URL:https://business.indianvalleychamber.com/events/details/2025-noontime-networking-january-2745
END:VEVENT

END:VCALENDAR
