BEGIN:VCALENDAR
VERSION:2.0
PRODID:-//ChamberMaster//Event Calendar 2.0//EN
METHOD:PUBLISH
X-PUBLISHED-TTL:P3D
REFRESH-INTERVAL:P3D
CALSCALE:GREGORIAN
BEGIN:VEVENT
DTSTART:20241006T130000Z
DTEND:20241006T170000Z
X-MICROSOFT-CDO-ALLDAYEVENT:FALSE
SUMMARY:A&T Chevrolet-Subaru Celebration of Cars Benefit Car Show
DESCRIPTION:The 2024 Celebration of Cars Benefit Car Show returns Sunday\, October 6\, 2024. All makes and models cars\, trucks\, big rigs\, motorcycles are welcome at this rain or shine event! Come out to see some great vehicles. Jay's Joint Sandwich Truck and Federal Donuts food trucks will be there along with DJ Dan. All proceeds benefit Keystone Opportunity Center and Dog Town Rescue.
X-ALT-DESC;FMTTYPE=text/html:The 2024 Celebration of Cars Benefit Car Show returns Sunday\, October 6\, 2024. All makes and models&mdash\;cars\, trucks\, big rigs\, motorcycles&mdash\;are welcome at this rain or shine event! Come out to see some great vehicles. Jay&#39\;s Joint Sandwich Truck and Federal Donuts food trucks will be there along with DJ Dan. All proceeds benefit Keystone Opportunity Center and Dog Town Rescue.
LOCATION:A&T Chevrolet-Subaru 801 Bethlehem Pike Sellersville\, PA 18960
UID:e.3243.2724
SEQUENCE:3
DTSTAMP:20260419T130111Z
URL:https://business.indianvalleychamber.com/events/details/a-t-chevrolet-subaru-celebration-of-cars-benefit-car-show-2724
END:VEVENT

END:VCALENDAR
