BEGIN:VCALENDAR
VERSION:2.0
PRODID:-//ChamberMaster//Event Calendar 2.0//EN
METHOD:PUBLISH
X-PUBLISHED-TTL:P3D
REFRESH-INTERVAL:P3D
CALSCALE:GREGORIAN
BEGIN:VEVENT
DTSTART:20241005T140000Z
DTEND:20241005T180000Z
X-MICROSOFT-CDO-ALLDAYEVENT:FALSE
SUMMARY:Basket Bingo: Along The Way
DESCRIPTION:If there's one event you attend this year\, let it be this! We cannot wait to hear you shout BINGO at our 1st annual Basket Bingo event. The cost of tickets are $25 (early bird pricing only) a person and once they are sold out at that price\, they will be $35! Purchase today to guarantee your spot. Tables are available to guarantee your whole group can sit together\, and are also cheaper than single tickets. In addition to bingo\, there will be quilts for sale\, a 50/50 drawing\, food for purchase and so much more! Children under the age of 18 MUST be accompanied by an adult! Come join the staff of Along The Way and enjoy an afternoon out with friends/family playing bingo to win some creatively curated baskets! Basket themes include: Jewelry\, Caffeine lovers (all things coffee/tea)\, Lottery tickets\, A Night On The Town (restaurant and movie gift cards)\, Paint and Art Home Decor\, and more! A big thank you to our sponsors!
X-ALT-DESC;FMTTYPE=text/html:If there&#39\;s one event you attend this year\, let it be this! We cannot wait to hear you shout BINGO at our 1st annual Basket Bingo event. The cost of tickets are $25 (early bird pricing only) a person and once they are sold out at that price\, they will be $35! Purchase today to guarantee your spot. Tables are available to guarantee your whole group can sit together\, and are also cheaper than single tickets. In addition to bingo\, there will be quilts for sale\, a 50/50 drawing\, food for purchase and so much more! Children under the age of 18 MUST be accompanied by an adult! Come join the staff of Along The Way and enjoy an afternoon out with friends/family playing bingo to win some creatively curated baskets! Basket themes include: Jewelry\, Caffeine lovers (all things coffee/tea)\, Lottery tickets\, A Night On The Town (restaurant and movie gift cards)\, Paint and Art Home Decor\, and more! A big thank you to our sponsors!
LOCATION:Perseverance Fire Company 266 N 2nd St. Souderton\, PA 18964
UID:e.3243.2720
SEQUENCE:3
DTSTAMP:20260419T131440Z
URL:https://business.indianvalleychamber.com/events/details/basket-bingo-along-the-way-2720
END:VEVENT

END:VCALENDAR
