BEGIN:VCALENDAR
VERSION:2.0
PRODID:-//ChamberMaster//Event Calendar 2.0//EN
METHOD:PUBLISH
X-PUBLISHED-TTL:P3D
REFRESH-INTERVAL:P3D
CALSCALE:GREGORIAN
BEGIN:VEVENT
DTSTART:20240924T123000Z
DTEND:20240924T140000Z
X-MICROSOFT-CDO-ALLDAYEVENT:FALSE
SUMMARY:Business Builder: Creating a Vibrant Organizational Culture
DESCRIPTION:Join us for this insightful in-person seminar at The Center Consulting Group\, where Senior Consultant Billy Dunn\, M.S. will be presenting on "Creating a Vibrant Organizational Culture."\n\n \n\nHave you ever wondered why some organizations achieve remarkable success\, while others struggle despite similar resources? This session will explore how a vibrant organizational culture can significantly boost employee engagement\, profitability\, and overall impact. Learn about the five key priorities that will allow you to strengthen your organizational culture and transform your workplace.\n\n \n\nBilly Dunn\n\nSenior Consultant\n\n \n\nBilly has over 25 years of church\, nonprofit\, and for-profit leadership experience. He also serves as the character coach for the Lehigh University Men's Basketball team and on the board of Push The Rock which he founded. Billy has assisted in the launch of a number of nonprofit organizations\, and he has worked with organizations and nonprofit ministries around the world. Billy has an M.S. in Organizational Leadership and brings experience in change management\, crisis guidance\, organizational assessment\, leadership coaching\, and strategic planning.
X-ALT-DESC;FMTTYPE=text/html:<span style="border:none windowtext 1.0pt\;padding:0in\;"><span style="color:#242424\;"><span style="font-family:lato\,sans-serif\;">Join us for this insightful in-person seminar at The Center Consulting Group\, where Senior Consultant Billy Dunn\, M.S. will be presenting on &quot\;Creating a Vibrant Organizational Culture.&quot\;</span></span></span><br />\n&nbsp\;<br />\n<span style="border:none windowtext 1.0pt\;padding:0in\;"><span style="color:#242424\;"><span style="font-family:lato\,sans-serif\;">Have you ever wondered why some organizations achieve remarkable success\, while others struggle despite similar resources? This session will explore how a vibrant organizational culture can significantly boost employee engagement\, profitability\, and overall impact. Learn about the five key priorities that will allow you to strengthen your organizational culture and transform your workplace.</span></span></span><br />\n&nbsp\;<br />\n<strong><span style="color:#2B2B2B\;"><span style="font-family:lato\,sans-serif\;"><span style="font-size:12.0pt\;">Billy Dunn</span></span></span></strong><br />\n<strong><span style="color:#2B2B2B\;"><span style="font-family:lato\,sans-serif\;"><span style="font-size:12.0pt\;">Senior Consultant</span></span></span></strong><br />\n&nbsp\;<br />\n<span style="color:#2B2B2B\;"><span style="font-family:lato\,sans-serif\;"><span style="font-size:12.0pt\;">Billy has over 25 years of church\, nonprofit\, and for-profit leadership experience. He also serves as the character coach for the Lehigh University Men&rsquo\;s Basketball team and on the board of Push The Rock which he founded. Billy has assisted in the launch of a number of nonprofit organizations\, and he has worked with organizations and nonprofit ministries around the world. Billy has an M.S. in Organizational Leadership and brings experience in change management\, crisis guidance\, organizational assessment\, leadership coaching\, and strategic planning.&nbsp\;</span></span></span>
LOCATION:The Center Consulting Group 123 N. Main Street Suite 202 Dublin\, PA 18917
UID:e.3243.2711
SEQUENCE:3
DTSTAMP:20260419T191822Z
URL:https://business.indianvalleychamber.com/events/details/business-builder-creating-a-vibrant-organizational-culture-2711
END:VEVENT

END:VCALENDAR
