BEGIN:VCALENDAR
VERSION:2.0
PRODID:-//ChamberMaster//Event Calendar 2.0//EN
METHOD:PUBLISH
X-PUBLISHED-TTL:P3D
REFRESH-INTERVAL:P3D
CALSCALE:GREGORIAN
BEGIN:VEVENT
DTSTART:20241017T160000Z
DTEND:20241017T163000Z
X-MICROSOFT-CDO-ALLDAYEVENT:FALSE
SUMMARY:Capture Your Audience's Attention
DESCRIPTION:Learn how to nail your marketing so your business will grow!\n\n\n\nAre you wasting money on marketing? Are your sales flat\, even with an increased ad budget? Is your marketing agency the only one making money off your ads? Do people even understand what you're selling? \n\n\n\nWhat if you could spend less on marketing and sell more?\n\n\n\nLearn how to talk about what you do so customers will actually listen and take action. No more guessing about what works. Leave with a step-by-step plan you can implement now. bring in more leads\, convert more customers\, and make more money. \n \n\n\nJoin Tracey Piechocki of Illustrated Designs as she gives you the information you and your business need.\n\n\n\nREGISTER DIRECTLY WITH ILLUSTRATED DESIGNS: https://bit.ly/CaptureAudienceAttentionWebinar
X-ALT-DESC;FMTTYPE=text/html:<strong style="font-size: 14px\;">Learn how to nail your marketing so your business will grow!</strong><br />\n<br />\n<span style="font-size: 14px\;">Are you wasting money on marketing? Are your sales flat\, even with an increased ad budget? Is your marketing agency the only one making money off your ads? Do people even understand what you&#39\;re selling?&nbsp\;</span><br />\n<br />\n<strong style=""><span style="font-size: 14px\;">What if you could spend less on marketing and sell more?</span></strong><br />\n<br />\n<strong style=""><span style="font-size: 14px\;">Learn how to talk about what you do so customers will actually listen and take action. No more guessing about what works. Leave with a step-by-step plan you can implement now. bring in more leads\, convert more customers\, and make more money.&nbsp\;</span></strong>\n<div style="text-align: center\;">&nbsp\;</div>\n<br />\n<span style="font-size:14px\;"><strong>Join Tracey Piechocki of Illustrated Designs as she gives you the information you and your business need.<br />\n<br />\n<span style="font-size:22px\;"><span style="color:#FF0000\;">REGISTER DIRECTLY WITH ILLUSTRATED DESIGNS:</span>&nbsp\;</span></strong></span><span style="font-size:22px\;">https://bit.ly/CaptureAudienceAttentionWebinar</span>
LOCATION:WEBINAR
UID:e.3243.2717
SEQUENCE:3
DTSTAMP:20260419T130458Z
URL:https://business.indianvalleychamber.com/events/details/capture-your-audience-s-attention-2717
END:VEVENT

END:VCALENDAR
