BEGIN:VCALENDAR
VERSION:2.0
PRODID:-//ChamberMaster//Event Calendar 2.0//EN
METHOD:PUBLISH
X-PUBLISHED-TTL:P3D
REFRESH-INTERVAL:P3D
CALSCALE:GREGORIAN
BEGIN:VEVENT
DTSTART;VALUE=DATE:20240812
DTEND;VALUE=DATE:20240813
TRANSP:TRANSPARENT
X-MICROSOFT-CDO-ALLDAYEVENT:TRUE
SUMMARY:Fancy Pants Charity Golf Outing
DESCRIPTION:Leidy's Premium Meats would like to extend an invitation to you\, your friends and/or co-workers to our charity golf event on August 12\, 2024\, at Indian Valley Country Club\, Telford PA.\n\nAll proceeds from this event will benefit Philabundance.  \n\nWe hope you can join us for a day of golfing\, camaraderie\, and a shared commitment to make a positive impact for our neighbors experiencing hunger.\n\nThis event is Rain or Shine.
X-ALT-DESC;FMTTYPE=text/html:<h5><span style="color:#006400"><span style="font-size:14px"><span style="font-family:times new roman">Leidy&rsquo\;s Premium Meats would like to extend an invitation to you\, your friends and/or co-workers to our charity golf event on August 12\, 2024\, at Indian Valley Country Club\, Telford PA.</span></span></span></h5>\n\n<p><span style="color:#006400"><span style="font-size:14px"><span style="font-family:times new roman">All proceeds from this event will benefit Philabundance.&nbsp\;&nbsp\;</span></span></span></p>\n\n<p><span style="color:#006400"><span style="font-size:14px"><span style="font-family:times new roman">We hope you can join us for a day of golfing\, camaraderie\, and a shared commitment to make a positive impact for our neighbors experiencing hunger.</span></span></span></p>\n\n<p><span style="color:#006400"><span style="font-size:14px"><span style="font-family:times new roman"><strong>This event is Rain or Shine.</strong></span></span></span></p>\n
LOCATION:Indian Valley Country Club 650 Bergey Road Telford\, PA 18969
UID:e.3243.2034
SEQUENCE:3
DTSTAMP:20260419T204813Z
URL:https://business.indianvalleychamber.com/events/details/fancy-pants-charity-golf-outing-2034
END:VEVENT

END:VCALENDAR
