BEGIN:VCALENDAR
VERSION:2.0
PRODID:-//ChamberMaster//Event Calendar 2.0//EN
METHOD:PUBLISH
X-PUBLISHED-TTL:P3D
REFRESH-INTERVAL:P3D
CALSCALE:GREGORIAN
BEGIN:VEVENT
DTSTART:20241005T150000Z
DTEND:20241006T220000Z
X-MICROSOFT-CDO-ALLDAYEVENT:FALSE
SUMMARY:FRANCONIA TOWNSHIP FALL FEST
DESCRIPTION:Come out and enjoy music\, food trucks\, pumpkin patch\, wagon rides\, hay maze\, craft vendors and community non-profits during this great fall event! \n\n\n\nHelicopter rides - $45 for 10-minute airtime\n\n\n\nFIREWORKS - Saturday @ 7:30 P.M.
X-ALT-DESC;FMTTYPE=text/html:Come out and enjoy music\, food trucks\, pumpkin patch\, wagon rides\, hay maze\, craft vendors and community non-profits during this great fall event!&nbsp\;<br />\n<br />\nHelicopter rides - $45 for 10-minute airtime<br />\n<br />\nFIREWORKS - Saturday @ 7:30 P.M.<br />\n&nbsp\;
LOCATION:Franconia Community Park\, Allentown Road\, Telford\, PA
UID:e.3243.2730
SEQUENCE:3
DTSTAMP:20260419T130550Z
URL:https://business.indianvalleychamber.com/events/details/franconia-township-fall-fest-2730
END:VEVENT

END:VCALENDAR
