BEGIN:VCALENDAR
VERSION:2.0
PRODID:-//ChamberMaster//Event Calendar 2.0//EN
METHOD:PUBLISH
X-PUBLISHED-TTL:P3D
REFRESH-INTERVAL:P3D
CALSCALE:GREGORIAN
BEGIN:VEVENT
DTSTART:20240811T220000Z
DTEND:20240811T233000Z
X-MICROSOFT-CDO-ALLDAYEVENT:FALSE
SUMMARY:FRANCONIA TOWNSHIP'S CONCERT IN THE PARK
DESCRIPTION:Please join Franconia Township for our Parks and Recreation Board's 2024 Annual Concert in the Park. Grab a lawn chair or bring along a blanket to have a seat on the lawn of beautiful Franconia Community Park on Allentown Road to listen to the Alex Buono Band performing some of your favorite hit songs from all genres of music from the 50s to the present.\n\n\n\nNorth Penn Goodwill Food Truck and Downtown Scoop will be at the event providing food\, drink and ice cream for purchase.  We hope to see you there!
X-ALT-DESC;FMTTYPE=text/html:<h3><span style="font-family:comic sans ms">Please join Franconia Township for our Parks and Recreation Board&#39\;s 2024 Annual Concert in the Park. Grab a lawn chair or bring along a blanket to have a seat on the lawn of beautiful Franconia Community Park on Allentown Road to listen to the Alex Buono Band performing some of your favorite hit songs from all genres of music from the 50s to the present.<br />\n<br />\nNorth Penn Goodwill Food Truck and Downtown Scoop will be at the event providing food\, drink and ice cream for purchase.&nbsp\; We hope to see you there!</span></h3>\n
LOCATION:Franconia Community Park\, Allentown Road\, Telford\, PA
UID:e.3243.2715
SEQUENCE:3
DTSTAMP:20260419T205937Z
URL:https://business.indianvalleychamber.com/events/details/franconia-township-s-concert-in-the-park-2715
END:VEVENT

END:VCALENDAR
