BEGIN:VCALENDAR
VERSION:2.0
PRODID:-//ChamberMaster//Event Calendar 2.0//EN
METHOD:PUBLISH
X-PUBLISHED-TTL:P3D
REFRESH-INTERVAL:P3D
CALSCALE:GREGORIAN
BEGIN:VEVENT
DTSTART:20250503T143000Z
DTEND:20250503T160000Z
X-MICROSOFT-CDO-ALLDAYEVENT:FALSE
SUMMARY:FRANCONIA TOWNSHIP'S INTERMEDIATE PICKLEBALL CLINIC
DESCRIPTION:If you've been playing pickleball and are looking to improve your level of play\, please join Franconia Township as Barb Matase\, USA Pickleball Association Ambassador\, provides intermediate level pickleball instruction at Branchwood Park pickleball courts. Paddles (if needed)\, balls and nets will be provided for the clinic.  \n\n	Players should have played pickleball prior to class and know general rules\n	Players will learn proper techniques and strategies of ground strokes\, serving and positioning skills to help improve their pickleball knowledge and skill set\n\nClinic is limited to 12 players. Registration is required. A completed sign-up sheet\, waiver form and payment must be received by the township to be registered for this event. Registration forms are available in twp. office or website at www.franconiatownship.org. First come\, first served.  \n\n\n\nWe will attempt to schedule a rain date\, if possible. NO REFUNDS.
X-ALT-DESC;FMTTYPE=text/html:If you&#39\;ve been playing pickleball and are looking to improve your level of play\, please join Franconia Township as Barb Matase\, USA Pickleball Association Ambassador\, provides intermediate level pickleball instruction at Branchwood Park pickleball courts. Paddles (if needed)\, balls and nets will be provided for the clinic.&nbsp\;&nbsp\;\n<ul>\n	<li>Players should have played pickleball prior to class and know general rules</li>\n	<li>Players will learn proper techniques and strategies of ground strokes\, serving and positioning skills to help improve their pickleball knowledge and skill set</li>\n</ul>\nClinic is limited to 12 players. Registration is required. A completed sign-up sheet\, waiver form and payment must be received by the township to be registered for this event. Registration forms are available in twp. office or website at www.franconiatownship.org. First come\, first served.&nbsp\;&nbsp\;<br />\n<br />\nWe will attempt to schedule a rain date\, if possible. NO REFUNDS.
LOCATION:Branchwood Park pickleball courts\, 984 Camp Road\, Telford\, PA.
UID:e.3243.2786
SEQUENCE:3
DTSTAMP:20260420T052453Z
URL:https://business.indianvalleychamber.com/events/details/franconia-township-s-intermediate-pickleball-clinic-2786
END:VEVENT

END:VCALENDAR
