BEGIN:VCALENDAR
VERSION:2.0
PRODID:-//ChamberMaster//Event Calendar 2.0//EN
METHOD:PUBLISH
X-PUBLISHED-TTL:P3D
REFRESH-INTERVAL:P3D
CALSCALE:GREGORIAN
BEGIN:VEVENT
DTSTART:20250322T143000Z
DTEND:20250322T203000Z
X-MICROSOFT-CDO-ALLDAYEVENT:FALSE
SUMMARY:Indian Valley Public Library Used Book Sale
DESCRIPTION:The used book sale is an important event that supports the library's programs and services by generating funds through the sale of donated and withdrawn books. It also fosters community engagement by providing affordable access to books for all ages and interests\, promoting literacy\, and encouraging sustainable practices through book reuse. \n \n\nMost books cost between $0.25 and $1.00 with some specialty items costing more.
X-ALT-DESC;FMTTYPE=text/html:<span style="background-color:rgb(255\, 255\, 255)\; color:rgb(34\, 34\, 34)\; font-family:arial\,helvetica\,sans-serif\; font-size:small">The used book sale is an important event that supports the library&#39\;s programs and services by generating funds through the sale of donated and withdrawn books. It also fosters community engagement by providing affordable access to books for all ages and interests\, promoting literacy\, and encouraging sustainable practices through book reuse.&nbsp\;</span>\n<div>&nbsp\;</div>\n\n<div><span style="background-color:rgb(255\, 255\, 255)\; color:rgb(34\, 34\, 34)\; font-family:arial\,helvetica\,sans-serif\; font-size:small">Most books cost between $0.25 and $1.00 with some specialty items costing more.</span></div>\n
LOCATION:Indian Valley Public Library 100 E Church Ave Telford PA 18969
UID:e.3243.2765
SEQUENCE:3
DTSTAMP:20260420T011450Z
URL:https://business.indianvalleychamber.com/events/details/indian-valley-public-library-used-book-sale-03-22-2025-2765
END:VEVENT

END:VCALENDAR
