BEGIN:VCALENDAR
VERSION:2.0
PRODID:-//ChamberMaster//Event Calendar 2.0//EN
METHOD:PUBLISH
X-PUBLISHED-TTL:P3D
REFRESH-INTERVAL:P3D
CALSCALE:GREGORIAN
BEGIN:VEVENT
DTSTART:20250508T140000Z
DTEND:20250508T220000Z
X-MICROSOFT-CDO-ALLDAYEVENT:FALSE
SUMMARY:Indian Valley Public Library Used Book Sale
DESCRIPTION:The used book sale is an important event that supports the library's programs and services by generating funds through the sale of donated and withdrawn books. It also fosters community engagement by providing affordable access to books for all ages and interests\, promoting literacy\, and encouraging sustainable practices through book reuse. \n \n\nMost books range from $0.25 to $1.00 with some specialty items and books being more.
X-ALT-DESC;FMTTYPE=text/html:<span style="color:rgb(34\, 34\, 34)\; font-family:arial\,helvetica\,sans-serif\; font-size:small">The used book sale is an important event that supports the library&#39\;s programs and services by generating funds through the sale of donated and withdrawn books. It also fosters community engagement by providing affordable access to books for all ages and interests\, promoting literacy\, and encouraging sustainable practices through book reuse.&nbsp\;</span>\n<div style="background:rgb(250\, 250\, 250)\; border:0px\; padding:0px">&nbsp\;</div>\n\n<div style="background:rgb(250\, 250\, 250)\; border:0px\; padding:0px">Most books range from $0.25 to $1.00 with some specialty items and books being more.</div>\n
LOCATION:Indian Valley Public Library 100 E Church Ave Telford PA 18969
UID:e.3243.2768
SEQUENCE:3
DTSTAMP:20260420T041234Z
URL:https://business.indianvalleychamber.com/events/details/indian-valley-public-library-used-book-sale-05-08-2025-2768
END:VEVENT

END:VCALENDAR
