BEGIN:VCALENDAR
VERSION:2.0
PRODID:-//ChamberMaster//Event Calendar 2.0//EN
METHOD:PUBLISH
X-PUBLISHED-TTL:P3D
REFRESH-INTERVAL:P3D
CALSCALE:GREGORIAN
BEGIN:VEVENT
DTSTART;VALUE=DATE:20240905
DTEND;VALUE=DATE:20240906
TRANSP:TRANSPARENT
X-MICROSOFT-CDO-ALLDAYEVENT:TRUE
SUMMARY:Medicare and Social Security Seminar
DESCRIPTION:Join our financial experts for an informative seminar covering the timing\, process\, and other key details to Medicare and Social Security planning: \n\nThursday\, Sept. 5\n\n6:30 p.m.\n\nZion Mennonite Church\n\n149 East Cherry Lane\, Souderton \n\nREGISTER TODAY at everence.com/souderton \n\nUnder "Explore Medicare resources"\n\nOr email souderton@everence.com Or call 215-703-0111
X-ALT-DESC;FMTTYPE=text/html:<div>\n<p><span style="color:rgb(25.098040%\, 25.098040%\, 25.098040%)\; font-family:frutigerltstd\; font-size:12.000000pt">Join our financial experts for an informative seminar covering the timing\, process\, and other key details to Medicare and Social Security planning: </span></p>\n\n<p><strong>Thursday\, Sept. 5<br />\n6:30 p.m.<br />\nZion Mennonite Church<br />\n149 East Cherry Lane\, Souderton </strong></p>\n\n<p><strong>REGISTER TODAY </strong><span style="color:rgb(25.098040%\, 25.098040%\, 25.098040%)\; font-family:frutigerltstd\; font-size:12.000000pt">at </span><strong>everence.com/souderton </strong><br />\n<span style="color:rgb(25.098040%\, 25.098040%\, 25.098040%)\; font-family:frutigerltstd\; font-size:12.000000pt">Under &ldquo\;Explore Medicare resources&rdquo\;</span><br />\n<span style="color:rgb(64\, 64\, 64)\; font-family:frutigerltstd\; font-size:12pt">Or email souderton@everence.com Or call 215-703-0111</span></p>\n</div>\n
LOCATION:Zion Mennonite Church 149 East Cherry Lane\, Souderton
UID:e.3243.2719
SEQUENCE:3
DTSTAMP:20260419T191600Z
URL:https://business.indianvalleychamber.com/events/details/medicare-and-social-security-seminar-2719
END:VEVENT

END:VCALENDAR
