BEGIN:VCALENDAR
VERSION:2.0
PRODID:-//ChamberMaster//Event Calendar 2.0//EN
METHOD:PUBLISH
X-PUBLISHED-TTL:P3D
REFRESH-INTERVAL:P3D
CALSCALE:GREGORIAN
BEGIN:VEVENT
DTSTART:20241019T160000Z
DTEND:20241019T200000Z
X-MICROSOFT-CDO-ALLDAYEVENT:FALSE
SUMMARY:Oktoberfest
DESCRIPTION:Mark your calendars for our Oktoberfest celebration! Enjoy live music\, food trucks\, beer garden\, shopping\, chili cook-off\, and activities for all ages.
X-ALT-DESC;FMTTYPE=text/html:Mark your calendars for our Oktoberfest celebration! Enjoy live music\, food trucks\, beer garden\, shopping\, chili cook-off\, and activities for all ages.
LOCATION:Location: J. S. Stover Beverage\, 115 S 4th Street Telford\, PA 18969
UID:e.3243.2727
SEQUENCE:3
DTSTAMP:20260423T150339Z
URL:https://business.indianvalleychamber.com/events/details/oktoberfest-2727
END:VEVENT

END:VCALENDAR
