BEGIN:VCALENDAR
VERSION:2.0
PRODID:-//ChamberMaster//Event Calendar 2.0//EN
METHOD:PUBLISH
X-PUBLISHED-TTL:P3D
REFRESH-INTERVAL:P3D
CALSCALE:GREGORIAN
BEGIN:VEVENT
DTSTART:20250226T133000Z
DTEND:20250226T150000Z
X-MICROSOFT-CDO-ALLDAYEVENT:FALSE
SUMMARY:Power Up Your Business Networking
DESCRIPTION:Are you ready to walk into any room (in-person or virtual\, personal or professional) and connect with ease? Join us for the BOOST YOUR CONFIDENCE AND BUILD YOUR NETWORK workshop\, where you'll gain the tools and techniques to:\n\n	approach new connections with confidence and a positive mindset\n	clearly communicate your value to others\n	make lasting impressions in seconds\n	master proven strategies to build rapport and strengthen relationships\n\nThis interactive workshop\, facilitated by Dale Carnegie Training\, is designed to help you feel more comfortable meeting new people and growing your professional network - both in-person and online. whether your an experienced networker or just starting out\, you'll leave with confidence and skills to expand your opportunities. \n\n\n\nSign up today and take your networking game to the next level!
X-ALT-DESC;FMTTYPE=text/html:Are you ready to walk into any room (in-person or virtual\, personal or professional) and connect with ease? Join us for the BOOST YOUR CONFIDENCE AND BUILD YOUR NETWORK workshop\, where you&#39\;ll gain the tools and techniques to:\n<ul>\n	<li>approach new connections with confidence and a positive mindset</li>\n	<li>clearly communicate your value to others</li>\n	<li>make lasting impressions in seconds</li>\n	<li>master proven strategies to build rapport and strengthen relationships</li>\n</ul>\nThis interactive workshop\, facilitated by Dale Carnegie Training\, is designed to help you feel more comfortable meeting new people and growing your professional network - both in-person and online. whether your an experienced networker or just starting out\, you&#39\;ll leave with confidence and skills to expand your opportunities.&nbsp\;<br />\n<br />\nSign up today and take your networking game to the next level!
LOCATION:Everence 17 Penn Ave. Souderton\, PA 18964
UID:e.3243.2772
SEQUENCE:3
DTSTAMP:20260419T233711Z
URL:https://business.indianvalleychamber.com/events/details/power-up-your-business-networking-2772
END:VEVENT

END:VCALENDAR
