BEGIN:VCALENDAR
VERSION:2.0
PRODID:-//ChamberMaster//Event Calendar 2.0//EN
METHOD:PUBLISH
X-PUBLISHED-TTL:P3D
REFRESH-INTERVAL:P3D
CALSCALE:GREGORIAN
BEGIN:VEVENT
DTSTART:20250305T210000Z
DTEND:20250305T230000Z
X-MICROSOFT-CDO-ALLDAYEVENT:FALSE
SUMMARY:RIBBON CUTTING: Bean Bag Food Program
DESCRIPTION:Join us as we celebrate Bean Bag Food Program's new facility at 55 Cherry Lane in Souderton! \n\n\n\nThe Bean Bag Food Program strives to fill the gap of hunger that children face when they are not in school. We provide weekly backpacks filled with food to get the children through the weekend. Stopping hunger so kids can Focus\, Learn and Succeed.\n\n\n\nLEARN MORE ABOUT THE BEAN BAG FOOD PROGRAM!
X-ALT-DESC;FMTTYPE=text/html:<span style="font-size:18px\;"><strong><span style="font-family:tahoma\;">Join us as we celebrate Bean Bag Food Program&#39\;s new facility at 55 Cherry Lane in Souderton!&nbsp\;</span></strong></span><br />\n<br />\n<span style="color: rgb(8\, 8\, 9)\; font-family: &quot\;Segoe UI Historic&quot\;\, &quot\;Segoe UI&quot\;\, Helvetica\, Arial\, sans-serif\; font-size: 15px\; text-align: center\; background-color: rgb(255\, 255\, 255)\;">The Bean Bag Food Program strives to fill the gap of hunger that children face when they are not in school. We provide weekly backpacks filled with food to get the children through the weekend. Stopping hunger so kids can Focus\, Learn and Succeed.<br />\n<br />\n<a href="https://beanbagfoodprogram.org/"><span style="font-size:14px\;"><strong>LEARN MORE ABOUT THE BEAN BAG FOOD PROGRAM!</strong></span></a></span><br />\n&nbsp\;
LOCATION:55 Cherry Lane Souderton\, PA 18964
UID:e.3243.2761
SEQUENCE:3
DTSTAMP:20260420T011118Z
URL:https://business.indianvalleychamber.com/events/details/ribbon-cutting-bean-bag-food-program-2761
END:VEVENT

END:VCALENDAR
