BEGIN:VCALENDAR
VERSION:2.0
PRODID:-//ChamberMaster//Event Calendar 2.0//EN
METHOD:PUBLISH
X-PUBLISHED-TTL:P3D
REFRESH-INTERVAL:P3D
CALSCALE:GREGORIAN
BEGIN:VEVENT
DTSTART:20250129T150000Z
DTEND:20250129T180000Z
X-MICROSOFT-CDO-ALLDAYEVENT:FALSE
SUMMARY:RIBBON CUTTING: BrightPath Childcare
DESCRIPTION:Join us for a RIBBON CUTTING as we welcome a new business to the community!\n\n \n\nBrightPath Early Learning and Child Care\, announces the opening of BrightPath Souderton\, the first location in the state of Pennsylvania. Conveniently located at 76 S County Line Rd\, Souderton\, PA\, the newly opened school is now enrolling children ages 6 weeks to 5 years old.\n\nThe new school in Souderton provides infant through pre-kindergarten care\, combining child-led exploration with a curriculum focused on areas like language\, math\, social skills\, STEM\, and environmental awareness. This offers families in the area with a quality early learning option.\n\n\n\n\n\nCLICK HERE to register directly with BrightPath\n\nLearn more about BrightPath here: https://brightpathkids.com/us
X-ALT-DESC;FMTTYPE=text/html:<p><strong><span style="font-size:14px\;">Join us for a RIBBON CUTTING as we welcome a new business to the community!</span></strong><br />\n&nbsp\;</p>\n\n<p style="box-sizing: border-box\; margin: 0px 0px 24px\; color: rgb(47\, 89\, 123)\; font-family: &quot\;Hero Junior&quot\;\, sans-serif\; font-size: 19px\; background-color: rgb(255\, 255\, 255)\; line-height: 1.5\;"><strong><span style="font-size:14px\;"><span style="font-family:arial\;"><span style="box-sizing: border-box\;"><a href="https://brightpathkids.com/us" style="box-sizing: border-box\; cursor: pointer\; text-decoration-line: none\; color: rgb(54\, 169\, 224)\; position: relative\; z-index: 2\; word-break: break-word\;">BrightPath Early Learning and Child Care\,</a></span>&nbsp\;announces the opening of&nbsp\;<span style="box-sizing: border-box\;"><a href="https://brightpathkids.com/us/locations/souderton?hsLang=en" style="box-sizing: border-box\; cursor: pointer\; text-decoration-line: none\; color: rgb(54\, 169\, 224)\; position: relative\; z-index: 2\; word-break: break-word\;">BrightPath Souderton</a></span>\, the first location in the state of Pennsylvania. Conveniently located at 76 S County Line Rd\, Souderton\, PA\, the newly opened school is now enrolling children ages 6 weeks to 5 years old.</span></span></strong></p>\n\n<p style="box-sizing: border-box\; margin: 0px 0px 24px\; color: rgb(47\, 89\, 123)\; font-family: &quot\;Hero Junior&quot\;\, sans-serif\; font-size: 19px\; background-color: rgb(255\, 255\, 255)\;"><strong><span style="font-size:14px\;"><span style="font-family:arial\;">The new school in Souderton provides infant through pre-kindergarten care\, combining child-led exploration with a curriculum focused on areas like language\, math\, social skills\, STEM\, and environmental awareness. This offers families in the area with a quality early learning option.<br />\n<br />\n<br />\n<span style="font-size:22px\;"><a href="https://share.hsforms.com/1rWTlX8ZlTcKQFR8jwroorA3i4ks">CLICK HERE</a> </span></span></span></strong><span style="font-size:22px\;"><span style="font-family:arial\;">to register directly with BrightPath</span></span><br />\n<strong><span style="font-size:14px\;"><span style="font-family:arial\;"><span style="font-size:12px\;">Learn more about BrightPath here:&nbsp\;</span></span></span></strong><span style="font-size:12px\;">https://brightpathkids.com/us</span></p>\n
LOCATION:BrightPath Childcare 76 S. County Line Rd. Souderton\, PA 18964
UID:e.3243.2750
SEQUENCE:3
DTSTAMP:20260419T222216Z
URL:https://business.indianvalleychamber.com/events/details/ribbon-cutting-brightpath-childcare-2750
END:VEVENT

END:VCALENDAR
