BEGIN:VCALENDAR
VERSION:2.0
PRODID:-//ChamberMaster//Event Calendar 2.0//EN
METHOD:PUBLISH
X-PUBLISHED-TTL:P3D
REFRESH-INTERVAL:P3D
CALSCALE:GREGORIAN
BEGIN:VEVENT
DTSTART:20240712T160000Z
DTEND:20240712T170000Z
X-MICROSOFT-CDO-ALLDAYEVENT:FALSE
SUMMARY:RIBBON CUTTING: On-Command Canine Training and Doggy Daycare
DESCRIPTION:Join us for the official ribbon cutting for new Chamber member\, On-Command Canine Training & Doggy Daycare! Meet the staff and tour the facility. Rocco's Sausage and Steaks will be there.\n\n\n\nOn-Command is a premier dog training\, daycare\, and boarding facility dedicated to providing top-notch services for your furry friends. They have been passionately training dogs and helping owners build stronger bonds with their pets since 2018.
X-ALT-DESC;FMTTYPE=text/html:<span style="color: rgb(5\, 5\, 5)\; font-family: &quot\;Segoe UI Historic&quot\;\, &quot\;Segoe UI&quot\;\, Helvetica\, Arial\, sans-serif\; font-size: 15px\; background-color: rgb(255\, 255\, 255)\;">Join us for the official ribbon cutting for new Chamber member\, On-Command Canine Training &amp\; Doggy Daycare! Meet the staff and tour the facility. Rocco&#39\;s Sausage and Steaks will be there.<br />\n<br />\nOn-Command is a premier dog training\, daycare\, and boarding facility dedicated to providing top-notch services for your furry friends. They have been passionately training dogs and helping owners build stronger bonds with their pets since 2018.&nbsp\;</span>
LOCATION:178 Penn Ave Telford\, PA 18969
UID:e.3243.2707
SEQUENCE:3
DTSTAMP:20260424T205538Z
URL:https://business.indianvalleychamber.com/events/details/ribbon-cutting-on-command-canine-training-and-doggy-daycare-2707
END:VEVENT

END:VCALENDAR
