BEGIN:VCALENDAR
VERSION:2.0
PRODID:-//ChamberMaster//Event Calendar 2.0//EN
METHOD:PUBLISH
X-PUBLISHED-TTL:P3D
REFRESH-INTERVAL:P3D
CALSCALE:GREGORIAN
BEGIN:VEVENT
DTSTART:20240716T113000Z
DTEND:20240716T120000Z
X-MICROSOFT-CDO-ALLDAYEVENT:FALSE
SUMMARY:RIBBON CUTTING: PA Title & Tag of Harleysville
DESCRIPTION:Celebrate a ribbon cutting with us! PA Title & Tag of Harleysville is a full service PennDOT agent --  title transfers\, registrations\, apportioned truck accounts\, drivers license services\, notary public\, and more!\n\n\n\nThis is the FOURTH office location for PA Title & Tag service!
X-ALT-DESC;FMTTYPE=text/html:Celebrate a ribbon cutting with us! PA Title &amp\; Tag of Harleysville is a full service PennDOT agent --&nbsp\; title transfers\, registrations\, apportioned truck accounts\, drivers license services\, notary public\, and more!<br />\n<br />\nThis is the FOURTH office location for PA Title &amp\; Tag service!
LOCATION:345 Main Street\, Suite 4 Harleysville\, PA 19438
UID:e.3243.2708
SEQUENCE:3
DTSTAMP:20260423T002122Z
URL:https://business.indianvalleychamber.com/events/details/ribbon-cutting-pa-title-tag-of-harleysville-2708
END:VEVENT

END:VCALENDAR
