BEGIN:VCALENDAR
VERSION:2.0
PRODID:-//ChamberMaster//Event Calendar 2.0//EN
METHOD:PUBLISH
X-PUBLISHED-TTL:P3D
REFRESH-INTERVAL:P3D
CALSCALE:GREGORIAN
BEGIN:VEVENT
DTSTART:20240920T160000Z
DTEND:20240920T170000Z
X-MICROSOFT-CDO-ALLDAYEVENT:FALSE
SUMMARY:RIBBON CUTTING: Pages & Parchment
DESCRIPTION:Join us for a RIBBON CUTTING as we welcome a new business to the community!\n\n\n\nPages & Parchment is a new AND used bookstore that carries a little bit of everything\, including: vintage and rare books\, mysteries\, horror\, fantasy\, and many other genres. \n\nRefreshments and snacks will be available.
X-ALT-DESC;FMTTYPE=text/html:<p>Join us for a RIBBON CUTTING as we welcome a new business to the community!<br />\n<br />\nPages &amp\; Parchment is a new AND used bookstore that carries a little bit of everything\, including: vintage and rare books\, mysteries\, horror\, fantasy\, and many other genres.&nbsp\;</p>\n\n<p>Refreshments and snacks will be available.&nbsp\;</p>\n
LOCATION:Pages & Parchment Bookstore 4010 W. Skippack Pike Skippack\, PA 19473 in back of barn
UID:e.3243.2721
SEQUENCE:3
DTSTAMP:20260419T191426Z
URL:https://business.indianvalleychamber.com/events/details/ribbon-cutting-pages-parchment-2721
END:VEVENT

END:VCALENDAR
