BEGIN:VCALENDAR
VERSION:2.0
PRODID:-//ChamberMaster//Event Calendar 2.0//EN
METHOD:PUBLISH
X-PUBLISHED-TTL:P3D
REFRESH-INTERVAL:P3D
CALSCALE:GREGORIAN
BEGIN:VEVENT
DTSTART:20250528T213000Z
DTEND:20250529T003000Z
X-MICROSOFT-CDO-ALLDAYEVENT:FALSE
SUMMARY:Telford Night Market
DESCRIPTION:Telford Night Market   Every Wednesday\, May 28 to August 27\, 2025 5:30pm - 8:30pm Telford Train Station Penn Avenue & Main Street\, Telford PA https://www.telfordhappenings.com/events/telford-night-market Shop local vendors\, enjoy live music\, and savor great food all season long. Join us every Wednesday between May 28th through August 27th for a seasonal family-friendly night market. Every week\, enjoy live music\, food trucks\, kids' activities\, special events\, brewers\, distillers\, wineries\, and more. Our open-air market features local vendors selling curated food\, fresh produce\, specialty gifts\, and art. Follow us @telfordnightmarket to see who's coming each week. This will be updated regularly\, so check back often! Vendor registration https://forms.gle/t8zv72JrQFvyuUU18 For more information contact: telfordhappenings@gmail.com.
X-ALT-DESC;FMTTYPE=text/html:Telford Night Market &ndash\; Every Wednesday\, May 28 to August 27\, 2025 5:30pm - 8:30pm Telford Train Station Penn Avenue &amp\; Main Street\, Telford PA https://www.telfordhappenings.com/events/telford-night-market Shop local vendors\, enjoy live music\, and savor great food all season long. Join us every Wednesday between May 28th through August 27th for a seasonal family-friendly night market. Every week\, enjoy live music\, food trucks\, kids&#39\; activities\, special events\, brewers\, distillers\, wineries\, and more. Our open-air market features local vendors selling curated food\, fresh produce\, specialty gifts\, and art. Follow us @telfordnightmarket to see who&rsquo\;s coming each week. This will be updated regularly\, so check back often! Vendor registration https://forms.gle/t8zv72JrQFvyuUU18 For more information contact: telfordhappenings@gmail.com.
LOCATION:Telford Train Station Penn Avenue & Main Street\, Telford PA
UID:e.3243.2787
SEQUENCE:3
DTSTAMP:20260420T041649Z
URL:https://business.indianvalleychamber.com/events/details/telford-night-market-2787
END:VEVENT

END:VCALENDAR
