BEGIN:VCALENDAR
VERSION:2.0
PRODID:-//ChamberMaster//Event Calendar 2.0//EN
METHOD:PUBLISH
X-PUBLISHED-TTL:P3D
REFRESH-INTERVAL:P3D
CALSCALE:GREGORIAN
BEGIN:VEVENT
DTSTART:20241213T230000Z
DTEND:20241214T010000Z
X-MICROSOFT-CDO-ALLDAYEVENT:FALSE
SUMMARY:Telford Tree Lighting
DESCRIPTION:Join us for a festive evening at the Telford Tree Lighting ceremony. Enjoy holiday music\, a visit from Santa\, and the beautiful lighting of our community tree.
X-ALT-DESC;FMTTYPE=text/html:Join us for a festive evening at the Telford Tree Lighting ceremony. Enjoy holiday music\, a visit from Santa\, and the beautiful lighting of our community tree.
LOCATION:Location: Telford Train Station\, Penn Avenue & Main Street\, Telford\, PA
UID:e.3243.2729
SEQUENCE:3
DTSTAMP:20260419T204515Z
URL:https://business.indianvalleychamber.com/events/details/telford-tree-lighting-2729
END:VEVENT

END:VCALENDAR
