BEGIN:VCALENDAR
VERSION:2.0
PRODID:-//ChamberMaster//Event Calendar 2.0//EN
METHOD:PUBLISH
X-PUBLISHED-TTL:P3D
REFRESH-INTERVAL:P3D
CALSCALE:GREGORIAN
BEGIN:VEVENT
DTSTART:20260409T140000Z
DTEND:20260409T220000Z
X-MICROSOFT-CDO-ALLDAYEVENT:FALSE
SUMMARY:Used Book Sale at Indian Valley Public Libraryf
DESCRIPTION:The used book sale is an important event that supports the library's programs and services by generating funds through the sale of donated and withdrawn books. It also fosters community engagement by providing affordable access to books for all ages and interests\, promoting literacy\, and encouraging sustainable practices through book reuse.
X-ALT-DESC;FMTTYPE=text/html:The used book sale is an important event that supports the library&#39\;s programs and services by generating funds through the sale of donated and withdrawn books. It also fosters community engagement by providing affordable access to books for all ages and interests\, promoting literacy\, and encouraging sustainable practices through book reuse. &nbsp\;
LOCATION:Indian Valley Public Library 100 E. Church Ave Telford PA 18969
UID:e.3243.2855
SEQUENCE:3
DTSTAMP:20260425T112126Z
URL:https://business.indianvalleychamber.com/events/details/used-book-sale-at-indian-valley-public-libraryf-2855
END:VEVENT

END:VCALENDAR
