BEGIN:VCALENDAR
VERSION:2.0
PRODID:-//ChamberMaster//Event Calendar 2.0//EN
METHOD:PUBLISH
X-PUBLISHED-TTL:P3D
REFRESH-INTERVAL:P3D
CALSCALE:GREGORIAN
BEGIN:VEVENT
DTSTART:20191212T170000Z
DTEND:20191212T174500Z
X-MICROSOFT-CDO-ALLDAYEVENT:FALSE
SUMMARY:Webinar - Maximize Social Media Management and Marketing
DESCRIPTION:- Maximize Social Media Management and Marketing with expert tips for today's business.\n\nDid you know that 1 out of every 5 minutes spent on a mobile device happens on Facebook or Instagram? If you did know that\, ask yourself this: Is your business taking full advantage of the opportunities that social media offers? Social media isn't just a way to start a conversation with customers\; it's a way to close more sales from those conversations.
X-ALT-DESC;FMTTYPE=text/html:<strong><span style="font-family:calibri\,sans-serif\;"><span style="font-size:11.0pt\;">- Maximize Social Media Management and Marketing</span></span></strong><span style="font-family:calibri\,sans-serif\;"><span style="font-size:11.0pt\;">&nbsp\;with expert tips for today&rsquo\;s business.</span></span><br />\n<span style="color:black\;"><span style="font-family:arial\,sans-serif\;">Did you know that 1 out of every 5 minutes spent on a mobile device happens on Facebook or Instagram? If you did know that\, ask yourself this: Is your business taking full advantage of the opportunities that social media offers? Social media isn&rsquo\;t just a way to start a conversation with customers\; it&rsquo\;s a way to close more sales from those conversations.</span></span><br />\n&nbsp\;
LOCATION:Webinar
UID:e.3243.222
SEQUENCE:3
DTSTAMP:20260422T101227Z
URL:https://business.indianvalleychamber.com/events/details/webinar-maximize-social-media-management-and-marketing-222
END:VEVENT

END:VCALENDAR
